BEGIN:VCALENDAR
VERSION:2.0
PRODID:-//ChamberMaster//Event Calendar 2.0//EN
METHOD:PUBLISH
X-PUBLISHED-TTL:P3D
REFRESH-INTERVAL:P3D
CALSCALE:GREGORIAN
BEGIN:VEVENT
DTSTART:20210722T213000Z
DTEND:20210722T233000Z
X-MICROSOFT-CDO-ALLDAYEVENT:FALSE
SUMMARY:Summer Networking @ Lefkes - 7/22/2021 (In Person)
DESCRIPTION:Join us for a great summer evening\, at Lefkes gorgeous outdoor paradise! \n\n\n\nIf you haven't been there this summer\, you are in for a treat!  \n\n\n\nThere will be  complimentary hors d'oeuvres and a cash bar. Plenty of parking is available. (They have their own parking lot.)\n\n\n\nHope you will join us for this great opportunity to network safely outdoors in a perfect summer setting.  (Please bring a mask to wear when walking through the restaurant.)
X-ALT-DESC;FMTTYPE=text/html:<span style="font-size: 10pt\;"><span style="font-size: 18px\;"><font face="arial">Join us for a great summer evening\,<b>&nbsp\;</b>at Lefkes gorgeous outdoor paradise!&nbsp\;<br />\n<br />\nIf you haven&#39\;t been there this summer\, you are in for a treat!&nbsp\;&nbsp\;</font><br />\n<br />\n<font color="#26282a" face="helvetica\, sans-serif">There will be&nbsp\; complimentary hors d&#39\;oeuvres and a cash bar. Plenty of parking is available. (They have their own parking lot.)<br />\n<br />\nHope you will join us for this great opportunity to network safely outdoors in a perfect summer setting.&nbsp\; (Please bring a mask to wear when walking through the restaurant.)</font></span></span><br />\n&nbsp\;
LOCATION:Lefkes 495 Sylvan Avenue Englewood Cliffs\, NJ
UID:e.3175.540
SEQUENCE:3
DTSTAMP:20260424T153123Z
URL:https://www.fortleechamber.com/events/details/summer-networking-lefkes-7-22-2021-in-person-540
END:VEVENT

END:VCALENDAR
