BEGIN:VCALENDAR
VERSION:2.0
PRODID:-//ChamberMaster//Event Calendar 2.0//EN
METHOD:PUBLISH
X-PUBLISHED-TTL:P3D
REFRESH-INTERVAL:P3D
CALSCALE:GREGORIAN
BEGIN:VEVENT
DTSTART:20211027T140000Z
DTEND:20211027T150000Z
X-MICROSOFT-CDO-ALLDAYEVENT:FALSE
SUMMARY:Special Morning Networking via Zoom: How to Attract Employees Who Will Help You Grow Your Business
DESCRIPTION:Hiring the right people is a critical part of owning/running a business.\n\nThis webinar will provide the skills you need to make the right hiring choices! Find employees that are not only great workers\, but who will also help your business grow!\n\nAll attendees will receive a free coaching session valued at $300!
X-ALT-DESC;FMTTYPE=text/html:<div style="color: rgb(54\, 73\, 95)\; font-family: Arial\, Verdana\, Helvetica\, sans-serif\; font-size: 14px\; white-space: pre-wrap\; background-color: rgb(208\, 236\, 242)\;"><span style="font-size: 18px\; font-weight: bold\;">Hiring the right people is a critical part of owning/running a business.<br />\nThis webinar will provide the skills you need to make the right hiring choices! Find employees that are not only great workers\, but who will also help your business grow!<br />\nAll attendees will receive a free coaching session valued at $300!</span></div>\n\n<div style="color: rgb(54\, 73\, 95)\; font-family: Arial\, Verdana\, Helvetica\, sans-serif\; font-size: 14px\; white-space: pre-wrap\; background-color: rgb(208\, 236\, 242)\;">&nbsp\;</div>\n\n<div style="color: rgb(54\, 73\, 95)\; font-family: Arial\, Verdana\, Helvetica\, sans-serif\; font-size: 14px\; white-space: pre-wrap\; background-color: rgb(208\, 236\, 242)\;"><br />\n&nbsp\;</div>\n
LOCATION:via ZOOM
UID:e.3175.553
SEQUENCE:3
DTSTAMP:20260424T200045Z
URL:https://www.fortleechamber.com/events/details/special-morning-networking-via-zoom-how-to-attract-employees-who-will-help-you-grow-your-business-553
END:VEVENT

END:VCALENDAR
