BEGIN:VCALENDAR
VERSION:2.0
PRODID:-//ChamberMaster//Event Calendar 2.0//EN
METHOD:PUBLISH
X-PUBLISHED-TTL:P3D
REFRESH-INTERVAL:P3D
CALSCALE:GREGORIAN
BEGIN:VEVENT
DTSTART:20211209T213000Z
DTEND:20211209T233000Z
X-MICROSOFT-CDO-ALLDAYEVENT:FALSE
SUMMARY:Ribbon Cutting at Suite 215\, Fort Lee
DESCRIPTION:Join the Fort Lee Regional Chamber of Commerce as we welcome Suite 215 to our neighborhood with a Ribbon Cutting ceremony.\n\n\n\nMayor Mark Sokolich will officiate!
X-ALT-DESC;FMTTYPE=text/html:<strong>Join the Fort Lee Regional Chamber of Commerce as we welcome Suite 215 to our neighborhood with a Ribbon Cutting ceremony.<br />\n<br />\nMayor Mark Sokolich will officiate!</strong>
LOCATION:Suite 215 1207 Anderson Avenue Fort Lee
UID:e.3175.567
SEQUENCE:3
DTSTAMP:20260424T225848Z
URL:https://www.fortleechamber.com/events/details/ribbon-cutting-at-suite-215-fort-lee-567
END:VEVENT

END:VCALENDAR
