BEGIN:VCALENDAR
VERSION:2.0
PRODID:-//ChamberMaster//Event Calendar 2.0//EN
METHOD:PUBLISH
X-PUBLISHED-TTL:P3D
REFRESH-INTERVAL:P3D
CALSCALE:GREGORIAN
BEGIN:VEVENT
DTSTART:20210910T213000Z
DTEND:20210910T223000Z
X-MICROSOFT-CDO-ALLDAYEVENT:FALSE
SUMMARY:Ribbon Cutting at Greenhaus
DESCRIPTION:Join the FLRCC & Mayor Mark Sokolich for a Ribbon Cutting\n\n\n\nRefreshments will be served.
X-ALT-DESC;FMTTYPE=text/html:Join the FLRCC &amp\; Mayor Mark Sokolich for a Ribbon Cutting<br />\n<br />\nRefreshments will be served.
LOCATION:200 Main Street\, Unit 6 Fort Lee\, NJ 07024
UID:e.3175.549
SEQUENCE:3
DTSTAMP:20260424T181759Z
URL:https://www.fortleechamber.com/events/details/ribbon-cutting-at-greenhaus-549
END:VEVENT

END:VCALENDAR
