BEGIN:VCALENDAR
VERSION:2.0
PRODID:-//ChamberMaster//Event Calendar 2.0//EN
METHOD:PUBLISH
X-PUBLISHED-TTL:P3D
REFRESH-INTERVAL:P3D
CALSCALE:GREGORIAN
BEGIN:VEVENT
DTSTART:20211111T210000Z
DTEND:20211112T000000Z
X-MICROSOFT-CDO-ALLDAYEVENT:FALSE
SUMMARY:Ribbon Cutting
DESCRIPTION:Meet Veruschka Del Rio - one of our newest members!  She is the owner of Zentuary!\n\n\n\nVisit her studio and see what her business is all about.\n\n\n\nRefreshments will be served.
X-ALT-DESC;FMTTYPE=text/html:<span style="font-family:times new roman\;"><span style="font-family:verdana\;"><span style="font-size:18px\;">Meet Veruschka Del Rio - one of our newest members!&nbsp\; She is the owner of Zentuary!<br />\n<br />\nVisit her studio and see what her business is all about.<br />\n<br />\nRefreshments will be served.</span></span></span>
LOCATION:Zentuary 1203 Anderson Avenue Fort Lee
UID:e.3175.562
SEQUENCE:3
DTSTAMP:20260424T225545Z
URL:https://www.fortleechamber.com/events/details/ribbon-cutting-562
END:VEVENT

END:VCALENDAR
