BEGIN:VCALENDAR
VERSION:2.0
PRODID:-//ChamberMaster//Event Calendar 2.0//EN
METHOD:PUBLISH
X-PUBLISHED-TTL:P3D
REFRESH-INTERVAL:P3D
CALSCALE:GREGORIAN
BEGIN:VEVENT
DTSTART:20211112T220000Z
DTEND:20211113T010000Z
X-MICROSOFT-CDO-ALLDAYEVENT:FALSE
SUMMARY:One of One Productions Open House
DESCRIPTION:Take this opportunity to meet FLRCC Members Fela Davis\, Denis Orynbekov\, and Joy Pratcher and see their amazing Podcast studio. \n\n\n\nArrange to tell your business' story with a Podcast!\n\n\n\nOf course there will be refreshments!
X-ALT-DESC;FMTTYPE=text/html:<span style="font-size:18px\;"><span style="font-family:verdana\;">Take this opportunity to meet FLRCC Members Fela Davis\, Denis Orynbekov\, and Joy Pratcher and see their amazing Podcast studio.&nbsp\;<br />\n<br />\nArrange to tell your business&#39\; story with a Podcast!<br />\n<br />\nOf course there will be refreshments!</span></span><br />\n&nbsp\;
LOCATION:2125 Center Avenue Suite 403 Fort Lee
UID:e.3175.561
SEQUENCE:3
DTSTAMP:20260424T212750Z
URL:https://www.fortleechamber.com/events/details/one-of-one-productions-open-house-561
END:VEVENT

END:VCALENDAR
