BEGIN:VCALENDAR
VERSION:2.0
PRODID:-//ChamberMaster//Event Calendar 2.0//EN
METHOD:PUBLISH
X-PUBLISHED-TTL:P3D
REFRESH-INTERVAL:P3D
CALSCALE:GREGORIAN
BEGIN:VEVENT
DTSTART:20250318T220000Z
DTEND:20250318T220000Z
X-MICROSOFT-CDO-ALLDAYEVENT:FALSE
SUMMARY:Networking Madness (3/18/25)
DESCRIPTION:Get ready to tip off your networking game at Networking Madness\, where business connections are a slam dunk! Join us on Tuesday\, March 18 at 6 PM at Miller's Ale House in Paramus to catch the first game of the NCAA Tournament while expanding your professional circle.\n\n\n\nWhether you're a seasoned pro or a rookie in networking\, this event is the perfect fast break to meet like-minded professionals in a relaxed\, high-energy setting.\n\n\n\nEnjoy included appetizers and a cash bar as you dribble between conversations and assist your business with valuable new connections. Don't miss your shot  register now!
X-ALT-DESC;FMTTYPE=text/html:<br />\n<span style="font-size:16px\;">Get ready to tip off your networking game at <strong data-end="67" data-start="45">Networking Madness</strong>\, where business connections are a <strong data-end="115" data-start="102">slam dunk</strong>! Join us on <strong data-end="157" data-start="128">Tuesday\, March 18 at 6 PM</strong> at <strong data-end="194" data-start="161">Miller&rsquo\;s Ale House in Paramus</strong> to catch the <strong data-end="245" data-start="208">first game of the NCAA Tournament</strong> while expanding your professional circle.<br />\n<br />\nWhether you&#39\;re a seasoned pro or a rookie in networking\, this event is the perfect <strong data-end="385" data-start="371">fast break</strong> to meet like-minded professionals in a relaxed\, high-energy setting.<br />\n<br />\nEnjoy included&nbsp\;<strong data-end="490" data-start="461">appetizers </strong><strong data-end="490" data-start="461">and a</strong><strong data-end="490" data-start="461">&nbsp\;cash bar</strong> as you <strong data-end="509" data-start="498">dribble</strong> between conversations and <strong data-end="546" data-start="536">assist</strong> your business with valuable new connections. Don&rsquo\;t miss your shot&mdash\; register now!</span>
LOCATION:Miller's Ale House 270 Route 4 Paramus
UID:e.3175.1250
SEQUENCE:3
DTSTAMP:20260422T105338Z
URL:https://www.fortleechamber.com/events/details/networking-madness-3-18-25-1250
END:VEVENT

END:VCALENDAR
