BEGIN:VCALENDAR
VERSION:2.0
PRODID:-//ChamberMaster//Event Calendar 2.0//EN
METHOD:PUBLISH
X-PUBLISHED-TTL:P3D
REFRESH-INTERVAL:P3D
CALSCALE:GREGORIAN
BEGIN:VEVENT
DTSTART:20210616T213000Z
DTEND:20210616T233000Z
X-MICROSOFT-CDO-ALLDAYEVENT:FALSE
SUMMARY:Multi-Chamber Networking Event at Pier 115 - 6/16/2021
DESCRIPTION:Multi-Chamber Networking Event at Pier 115 on Wednesday\, June 16 from 5:30 to 7:30pm.  There will be a cash bar and free hors d'oeuvres. Plenty of parking and valet parking is also available. Hope you will join us for this great opportunity to network safely outdoors.  (Please bring a mask to wear when walking through the restaurant.)
X-ALT-DESC;FMTTYPE=text/html:<span style="font-size:18px\;"><strong><span style="font-family:arial\;">Multi-Chamber Networking Event</span><span style="color:#26282A\;"><span style="font-family:helvetica\,sans-serif\;"><span style="font-family:arial\;"><strong> </strong></span>at Pier 115 on Wednesday\, June 16 from 5:30 to 7:30pm.</span></span></strong></span><span style="color:#26282A\;"><span style="font-family:helvetica\,sans-serif\;"><span style="font-size:10.0pt\;"><span style="font-size:18px\;">&nbsp\; There will be a cash bar and free hors d&#39\;oeuvres. Plenty of parking and valet parking is also available. Hope you will join us for this great opportunity to network safely outdoors.&nbsp\; (Please bring a mask to wear when walking through the restaurant.)</span></span></span></span><br />\n&nbsp\;
LOCATION:Pier 115 115 River Road Edgewater\, NJ 07020
UID:e.3175.539
SEQUENCE:3
DTSTAMP:20260424T133558Z
URL:https://www.fortleechamber.com/events/details/multi-chamber-networking-event-at-pier-115-6-16-2021-539
END:VEVENT

END:VCALENDAR
