BEGIN:VCALENDAR
VERSION:2.0
PRODID:-//ChamberMaster//Event Calendar 2.0//EN
METHOD:PUBLISH
X-PUBLISHED-TTL:P3D
REFRESH-INTERVAL:P3D
CALSCALE:GREGORIAN
BEGIN:VEVENT
DTSTART:20211115T230000Z
DTEND:20211116T020000Z
X-MICROSOFT-CDO-ALLDAYEVENT:FALSE
SUMMARY:Multi-Chamber Networking Event at Lefkes Nov 15\, 2021
DESCRIPTION:This is a great opportunity to meet new people in-person from several Chambers in our local area\, at a great venue!\n\nLefkes is always a great place to relax and enjoy delicious complimentary hors d'oeuvres and there will be a cash bar.\n\n\n\nParticipating Chambers will be: \n\nCliffside Park \n\nFair Lawn\n\nFairview\n\nFort Lee\n\nNorth NJ\n\nPalisades Park\n\nTenafly
X-ALT-DESC;FMTTYPE=text/html:<span style="color:#006400\;"><span style="font-size:16px\;"><span style="font-family:verdana\;">This is a great opportunity to meet new people in-person from several Chambers in our local area\, at a great venue!<br />\nLefkes is always a great place to relax and enjoy delicious complimentary hors d&#39\;oeuvres and there will be a cash bar.<br />\n<br />\nParticipating Chambers will be:&nbsp\;</span></span></span><br />\n<span style="font-family:verdana\;"><span style="font-size:16px\;"><span style="color:#006400\;">Cliffside Park&nbsp\;<br />\nFair Lawn<br />\nFairview<br />\nFort Lee<br />\nNorth NJ<br />\nPalisades Park<br />\nTenafly</span></span></span>
LOCATION:Lefkes 495 Sylvan Avenue Englewood Cliffs
UID:e.3175.559
SEQUENCE:3
DTSTAMP:20260424T212611Z
URL:https://www.fortleechamber.com/events/details/multi-chamber-networking-event-at-lefkes-nov-15-2021-559
END:VEVENT

END:VCALENDAR
