BEGIN:VCALENDAR
VERSION:2.0
PRODID:-//ChamberMaster//Event Calendar 2.0//EN
METHOD:PUBLISH
X-PUBLISHED-TTL:P3D
REFRESH-INTERVAL:P3D
CALSCALE:GREGORIAN
BEGIN:VEVENT
DTSTART:20230914T130000Z
DTEND:20230914T140000Z
X-MICROSOFT-CDO-ALLDAYEVENT:FALSE
SUMMARY:Morning Networking (9/14/23)
DESCRIPTION:Rise and shine with the Fort Lee Chamber of Commerce for our monthly Morning Networking. Kickstart your day with a hot cup of coffee\, light refreshments\, and the chance to make meaningful connections with local business owners\, professionals and community leaders.\n\n \n\nWe will continue to partner with the Hackensack Chamber of Commerce to help you make new connections while reinforcing those relationships you've been building here in Fort Lee.\n\n\n\nhosted & sponsored by:\n\nFORT LEE PUBLIC LIBRARY\n\n\n\n\n\nAlways FREE for Members\n\nFuture Members - $25\n\n\n\nFuture Members\n\nJoin within one week and your registration fee will be doubled as a $50 credit towards membership dues for your first year.
X-ALT-DESC;FMTTYPE=text/html:<span style="font-size:16px\;">Rise and shine with the Fort Lee Chamber of Commerce for our monthly Morning Networking. Kickstart your day with a hot cup of coffee\, light refreshments\, and the chance to make meaningful connections with local business owners\, professionals and community leaders.<br>\n&nbsp\;<br>\nWe will continue to partner with the Hackensack Chamber of Commerce to help you make new connections while reinforcing those relationships you've been building here in Fort Lee.<br>\n<br>\nhosted &amp\; sponsored by:<br>\n<b>FORT LEE PUBLIC LIBRARY</b><br>\n<br>\n<br>\nAlways FREE for Members<br>\nFuture Members - $25<br>\n<br>\n<strong><u>Future Members</u><br>\nJoin within one week and your registration fee will be doubled as a $50 credit towards membership dues for your first year.</strong></span>
LOCATION:Fort Lee Library 320 Main St. (use 312 Hoym Street for GPS to parking lot)
UID:e.3175.1011
SEQUENCE:3
DTSTAMP:20260422T105547Z
URL:https://www.fortleechamber.com/events/details/morning-networking-9-14-23-1011
END:VEVENT

END:VCALENDAR
