BEGIN:VCALENDAR
VERSION:2.0
PRODID:-//ChamberMaster//Event Calendar 2.0//EN
METHOD:PUBLISH
X-PUBLISHED-TTL:P3D
REFRESH-INTERVAL:P3D
CALSCALE:GREGORIAN
BEGIN:VEVENT
DTSTART:20210707T130000Z
DTEND:20210707T140000Z
X-MICROSOFT-CDO-ALLDAYEVENT:FALSE
SUMMARY:Morning Networking 7/7/2021 (Virtual)
DESCRIPTION:Fela Davis will be the host this month!  Once everyone has introduced themselves and their business (max. 60 seconds!)\, you will cover the following topics:\n\n\n\n    1.  Are you still working from home or back to your office?\n\n\n\n    2.  Are you comfortable with In-Person Events\, or would you prefer to stay Virtual for now?\n\n\n\n    3.   For those who want to stay Virtual for now\, what would need to change/happen for you to do In-Person?  (For example\, if everyone in attendance was vaccinated\, would you feel comfortable to attend?)\n\n\n\n    4.  To help us with our scheduling\, what time of day is better for you:\n\n                9 AM?\n\n           5:30 PM?\n\n           6 PM?
X-ALT-DESC;FMTTYPE=text/html:<span style="font-size:16px\;"><span style="font-family:verdana\;">Fela Davis will be the host this month!&nbsp\; Once everyone has introduced themselves and their business (max. 60 seconds!)\, you will cover the following topics:</span></span><br />\n<br />\n&nbsp\; <span style="font-size:16px\;"><span style="font-family:verdana\;">&nbsp\; 1.&nbsp\; Are you still working from home or back to your office?<br />\n<br />\n&nbsp\; &nbsp\; 2.&nbsp\; Are you comfortable with In-Person Events\, or would you prefer to stay Virtual for now?</span></span><br />\n<br />\n&nbsp\;<span style="font-size:16px\;"><span style="font-family:verdana\;">&nbsp\;&nbsp\;&nbsp\;3.&nbsp\;</span></span>&nbsp\;<span style="font-size:16px\;"><span style="font-family:verdana\;">&nbsp\;For those who want to stay Virtual for now\, what would need to change/happen for you to do In-Person?&nbsp\; (For example\, if everyone in attendance was vaccinated\, would you feel comfortable to attend?)</span></span><br />\n<br />\n<span style="font-size:16px\;"><span style="font-family:verdana\;">&nbsp\; &nbsp\; 4.&nbsp\; To help us with our scheduling\, what time of day is better for you:</span></span><br />\n&nbsp\;&nbsp\;&nbsp\;&nbsp\;&nbsp\;&nbsp\;&nbsp\;&nbsp\;&nbsp\;&nbsp\;&nbsp\;&nbsp\;&nbsp\; <span style="font-size:16px\;"><span style="font-family:verdana\;">&nbsp\; 9 AM?<br />\n&nbsp\; &nbsp\; &nbsp\; &nbsp\; &nbsp\; &nbsp\;5:30 PM?<br />\n&nbsp\; &nbsp\; &nbsp\; &nbsp\; &nbsp\; &nbsp\;6 PM?</span></span>
LOCATION:Via Zoom (Link will be sent with your confirmation.)
UID:e.3175.527
SEQUENCE:3
DTSTAMP:20260424T150236Z
URL:https://www.fortleechamber.com/events/details/morning-networking-7-7-2021-virtual-527
END:VEVENT

END:VCALENDAR
