BEGIN:VCALENDAR
VERSION:2.0
PRODID:-//ChamberMaster//Event Calendar 2.0//EN
METHOD:PUBLISH
X-PUBLISHED-TTL:P3D
REFRESH-INTERVAL:P3D
CALSCALE:GREGORIAN
BEGIN:VEVENT
DTSTART:20210609T130000Z
DTEND:20210609T140000Z
X-MICROSOFT-CDO-ALLDAYEVENT:FALSE
SUMMARY:Morning Networking 6/9/2021
DESCRIPTION:Morning Networking is in-person again!   And we have an amazing location!  The Hyatt Place (2167 Route 4 East) has a beautiful\, sunny breakfast area off of their lobby and they are letting us use it!  The Chamber will provide coffee and something delicious to go with it!  So join us....with your mask!\n\nCan't wait to see you again!
X-ALT-DESC;FMTTYPE=text/html:<span style="font-family: verdana\; font-size: 16px\; text-align: center\;">Morning Networking is in-person again!&nbsp\; &nbsp\;And we have an amazing location!&nbsp\; The Hyatt Place (2167 Route 4 East) has a beautiful\, sunny breakfast area off of their lobby and they are letting us use it!&nbsp\; The Chamber will provide coffee and something delicious to go with it!&nbsp\; So join us....with your mask!<br />\nCan&#39\;t wait to see you again!</span>
LOCATION:Hyatt Place 2167 Route 4 East Fort Lee
UID:e.3175.526
SEQUENCE:3
DTSTAMP:20260424T133322Z
URL:https://www.fortleechamber.com/events/details/morning-networking-6-9-2021-526
END:VEVENT

END:VCALENDAR
