BEGIN:VCALENDAR
VERSION:2.0
PRODID:-//ChamberMaster//Event Calendar 2.0//EN
METHOD:PUBLISH
X-PUBLISHED-TTL:P3D
REFRESH-INTERVAL:P3D
CALSCALE:GREGORIAN
BEGIN:VEVENT
DTSTART:20211006T130000Z
DTEND:20211006T140000Z
X-MICROSOFT-CDO-ALLDAYEVENT:FALSE
SUMMARY:Morning Networking 10/6/2021
DESCRIPTION:Morning Networking is back "in-person" - join us at Chiller's Grill for a delicious pancake breakfast (menu will include Pancakes\, choice of meat\; French Toast\, choice of meat\; Eggs\, choice of meat\; Coffee or tea!) Network with fellow Chamber members. Looking forward to see you there!
X-ALT-DESC;FMTTYPE=text/html:<span style="font-size:18px\;">Morning Networking is back &quot\;in-person&quot\; - join us at Chiller&#39\;s Grill for a delicious pancake breakfast (menu will include Pancakes\, choice of meat\; French Toast\, choice of meat\; Eggs\, choice of meat\; Coffee or tea!) Network with fellow Chamber members. Looking forward to see you there!</span><br />\n<br />\n&nbsp\;
LOCATION:Chiller's Grill 2191 Fletcher Avenue Fort Lee\, NJ 07024
UID:e.3175.551
SEQUENCE:3
DTSTAMP:20260424T195745Z
URL:https://www.fortleechamber.com/events/details/morning-networking-10-6-2021-551
END:VEVENT

END:VCALENDAR
