BEGIN:VCALENDAR
VERSION:2.0
PRODID:-//ChamberMaster//Event Calendar 2.0//EN
METHOD:PUBLISH
X-PUBLISHED-TTL:P3D
REFRESH-INTERVAL:P3D
CALSCALE:GREGORIAN
BEGIN:VEVENT
DTSTART:20241112T140000Z
DTEND:20241112T150000Z
X-MICROSOFT-CDO-ALLDAYEVENT:FALSE
SUMMARY:Monthly Morning Networking (11/12/24)
DESCRIPTION:Your search for business connections is over.\n\n\n\nRise and shine with the Fort Lee Chamber of Commerce for our monthly Morning Networking. Kickstart your day with a hot cup of coffee\, light refreshments\, and the chance to make meaningful connections with local business owners\, professionals\, and community leaders.\n\n\n\nWe will continue to partner with the Hackensack Chamber of Commerce to help you make new connections while reinforcing those relationships you've been building here in Fort Lee.\n\n\n\nsponsored by:\n\nDijital Karma\n\n \n\nhosted by:\n\nBergen Marble & Granite\n\n453 Braod Avenue\n\nRidgefield\n\n\n\nAlways FREE for Members\n\nFuture Members - $25\n\n\n\nFuture Members\n\nJoin within one week and your registration fee will be doubled as a $50 credit towards membership dues for your first year.
X-ALT-DESC;FMTTYPE=text/html:<span style="font-size:16px\;"><strong>Your search for business connections is over.</strong><br />\n<br />\nRise and shine with the Fort Lee Chamber of Commerce for our monthly Morning Networking. Kickstart your day with a hot cup of coffee\, light refreshments\, and the chance to make meaningful connections with local business owners\, professionals\, and community leaders.<br />\n<br />\nWe will continue to partner with the Hackensack Chamber of Commerce to help you make new connections while reinforcing those relationships you&#39\;ve been building here in Fort Lee.<br />\n<br />\nsponsored by:<br />\n<strong><a href="https://www.dijitalkarma.com/">Dijital Karma</a></strong><br />\n&nbsp\;<br />\nhosted by:<br />\n<strong>Bergen Marble &amp\; Granite</strong><br />\n453 Braod Avenue<br />\nRidgefield<br />\n<br />\nAlways FREE for Members<br />\nFuture Members - $25<br />\n<br />\n<strong><u>Future Members</u><br />\nJoin within one week and your registration fee will be doubled as a $50 credit towards membership dues for your first year.</strong></span>
LOCATION:Bergen Marble & Granite 453 Broad Avenue Ridgefield
UID:e.3175.1226
SEQUENCE:3
DTSTAMP:20260422T105331Z
URL:https://www.fortleechamber.com/events/details/monthly-morning-networking-11-12-24-1226
END:VEVENT

END:VCALENDAR
