BEGIN:VCALENDAR
VERSION:2.0
PRODID:-//ChamberMaster//Event Calendar 2.0//EN
METHOD:PUBLISH
X-PUBLISHED-TTL:P3D
REFRESH-INTERVAL:P3D
CALSCALE:GREGORIAN
BEGIN:VEVENT
DTSTART:20210921T123000Z
DTEND:20210921T140000Z
X-MICROSOFT-CDO-ALLDAYEVENT:FALSE
SUMMARY:Meet Tom Bracken\, NJ Chamber President!
DESCRIPTION:Throughout the pandemic\, Tom Bracken\, President of the New Jersey Chamber of Commerce has provided continual support and information to help our Chamber members know what they were allowed to do\, what was required\, how to get financial assistance\, and help us stay connected with other Chambers in New Jersey.\n\n\n\nWe are lucky to have Tom live and in-person talk about how far we've come and where we are headed for the last half of the year. Please join us for this great opportunity to meet Tom in person and ask questions that you may have about N.J. business and what the future holds.\n\n\n\nThis is also a great opportunity to meet members from the Hackensack\, Paramus\, Ridgewood\, Fair Lawn\, and Waldwick Chambers of Commerce!\n\n\n\nMasks required.\n\n\n\nFelina's has plenty of parking.
X-ALT-DESC;FMTTYPE=text/html:<strong><span style="font-family:verdana\;"><span style="font-size:16px\;">Throughout the pandemic\, Tom Bracken\, President of the New Jersey Chamber of Commerce has provided continual support and information to help our Chamber members know what they were allowed to do\, what was required\, how to get financial assistance\, and help us stay connected with other Chambers in New Jersey.<br />\n<br />\nWe are lucky to have Tom live and in-person talk about how far we&#39\;ve come and where we are headed for the last half of the year. Please join us for this great opportunity to meet Tom in person and ask questions that you may have about N.J. business and what the future holds.<br />\n<br />\nThis is also a great opportunity to meet members from the Hackensack\, Paramus\, Ridgewood\, Fair Lawn\, and Waldwick Chambers of Commerce!<br />\n<br />\nMasks required.<br />\n<br />\nFelina&#39\;s has plenty of parking.</span></span></strong><br />\n<br />\n<br />\n<br />\n<br />\n<br />\n&nbsp\;
LOCATION:Felina 54 E. Ridgewood Avenue Ridgewood\, NJ
UID:e.3175.542
SEQUENCE:3
DTSTAMP:20260424T181703Z
URL:https://www.fortleechamber.com/events/details/meet-tom-bracken-nj-chamber-president-542
END:VEVENT

END:VCALENDAR
