BEGIN:VCALENDAR
VERSION:2.0
PRODID:-//ChamberMaster//Event Calendar 2.0//EN
METHOD:PUBLISH
X-PUBLISHED-TTL:P3D
REFRESH-INTERVAL:P3D
CALSCALE:GREGORIAN
BEGIN:VEVENT
DTSTART:20210603T200000Z
DTEND:20210603T230000Z
X-MICROSOFT-CDO-ALLDAYEVENT:FALSE
SUMMARY:First Year Anniversary Celebration of Hyatt Place
DESCRIPTION:Join us as Hyatt Place celebrates their first year anniversary Thursday\, June 3\, 2021 4pm - 7pm\n\n\n\nThey will be presenting their signature cocktails & appetizers.
X-ALT-DESC;FMTTYPE=text/html:<span style="font-size:20px\;">Join us as <strong>Hyatt Place</strong> celebrates their first year anniversary <strong>Thursday\, June 3\, 2021 4pm - 7pm</strong><br />\n<br />\nThey will be presenting their signature cocktails &amp\; appetizers.</span>
LOCATION:2167 Route 4 East Fort Lee\, NJ 07024
UID:e.3175.537
SEQUENCE:3
DTSTAMP:20260424T133751Z
URL:https://www.fortleechamber.com/events/details/first-year-anniversary-celebration-of-hyatt-place-537
END:VEVENT

END:VCALENDAR
