BEGIN:VCALENDAR
VERSION:2.0
PRODID:-//ChamberMaster//Event Calendar 2.0//EN
METHOD:PUBLISH
X-PUBLISHED-TTL:P3D
REFRESH-INTERVAL:P3D
CALSCALE:GREGORIAN
BEGIN:VEVENT
DTSTART:20211106T140000Z
DTEND:20211106T160000Z
X-MICROSOFT-CDO-ALLDAYEVENT:FALSE
SUMMARY:Environmental Cleanup & Networking
DESCRIPTION:This will be a fun time to network with Chamber members and Rotarians while cleaning up one of Fort Lee's beautiful wooded areas.\n\n\n\nCaps\, gloves and safety vests will be provided by the Rotary!\n\n\n\n**Be sure to include your shirt size  in the "Comment" box on the registration page (S\, M\, L\, XL....)**
X-ALT-DESC;FMTTYPE=text/html:<span style="font-size:18px\;"><span style="font-family:verdana\;"><strong>This will be a fun time to network with Chamber members and Rotarians while cleaning up one of Fort Lee&#39\;s beautiful wooded areas.<br />\n<br />\nCaps\, gloves and safety vests will be provided by the Rotary!<br />\n<br />\n<span style="color:#0000FF\;">**Be sure to include your shirt size&nbsp\; in the &quot\;Comment&quot\; box on the registration page (S\, M\, L\, XL....)**</span></strong></span></span>
LOCATION:Meet at the Lewis F. Cole School 467 Stillwell Avenue Fort Lee
UID:e.3175.557
SEQUENCE:3
DTSTAMP:20260424T212342Z
URL:https://www.fortleechamber.com/events/details/environmental-cleanup-networking-557
END:VEVENT

END:VCALENDAR
