BEGIN:VCALENDAR
VERSION:2.0
PRODID:-//ChamberMaster//Event Calendar 2.0//EN
METHOD:PUBLISH
X-PUBLISHED-TTL:P3D
REFRESH-INTERVAL:P3D
CALSCALE:GREGORIAN
BEGIN:VEVENT
DTSTART:20210910T130000Z
DTEND:20210910T140000Z
X-MICROSOFT-CDO-ALLDAYEVENT:FALSE
SUMMARY:Business Women's Networking 9/10/2021 (In-Person)
DESCRIPTION:Join us for Continental Breakfast (coffee\, tea\, pastries and bagels) at Chillers Grill in Fort Lee! We will have our own section to ourselves! \n\n\n\nBe prepared to introduce yourself and your business. \n\n\n\nThen Desi Tahiraj will present "Retaining Audience Attention During Virtual Events."
X-ALT-DESC;FMTTYPE=text/html:<font face="verdana"><span style="font-size: 18px\;">Join us for Continental Breakfast (coffee\, tea\, pastries and bagels) at Chillers Grill in Fort Lee! We will have our own section to ourselves!&nbsp\;<br />\n<br />\nBe prepared to introduce yourself and your business.&nbsp\;<br />\n<br />\nThen Desi Tahiraj will present &quot\;Retaining Audience Attention During Virtual Events.&quot\;</span></font><br />\n<br />\n<br />\n&nbsp\;
LOCATION:Chiller's Grill 2191 Fletcher Avenue Fort Lee\, NJ 07024
UID:e.3175.548
SEQUENCE:3
DTSTAMP:20260424T180854Z
URL:https://www.fortleechamber.com/events/details/business-women-s-networking-9-10-2021-in-person-548
END:VEVENT

END:VCALENDAR
