BEGIN:VCALENDAR
VERSION:2.0
PRODID:-//ChamberMaster//Event Calendar 2.0//EN
METHOD:PUBLISH
X-PUBLISHED-TTL:P3D
REFRESH-INTERVAL:P3D
CALSCALE:GREGORIAN
BEGIN:VEVENT
DTSTART:20210715T130000Z
DTEND:20210715T140000Z
X-MICROSOFT-CDO-ALLDAYEVENT:FALSE
SUMMARY:Business Women's Networking 7/15/2021 (In-Person)
DESCRIPTION:By popular demand (since our Golf Outing)\, we are meeting at 21 Golf Driving Range in Palisades Park!  Bring a few golf clubs if you have them\, or you can rent a club!  We will have our own section to ourselves! Coffee and other beverages and snacks are available for purchase.\n\n\n\nJoin us for this new adventure!  (Even if you never held a golf club!)
X-ALT-DESC;FMTTYPE=text/html:<font face="verdana"><span style="font-size: 18px\;">By popular demand (since our Golf Outing)\, we are meeting at <strong>21 Golf Driving Range in Palisades Park!</strong>&nbsp\; Bring a few golf clubs if you have them\, or you can rent a club!&nbsp\; We will have our own section to ourselves! Coffee and other beverages and snacks are available for purchase.<br />\n<br />\nJoin us for this new adventure!&nbsp\; (Even if you never held a golf club!)</span></font><br />\n<br />\n&nbsp\;
LOCATION:21 Golf Driving Range 1 U.S. Highway West Palisades Park
UID:e.3175.531
SEQUENCE:3
DTSTAMP:20260424T164546Z
URL:https://www.fortleechamber.com/events/details/business-women-s-networking-7-15-2021-in-person-531
END:VEVENT

END:VCALENDAR
