BEGIN:VCALENDAR
VERSION:2.0
PRODID:-//ChamberMaster//Event Calendar 2.0//EN
METHOD:PUBLISH
X-PUBLISHED-TTL:P3D
REFRESH-INTERVAL:P3D
CALSCALE:GREGORIAN
BEGIN:VEVENT
DTSTART:20210617T130000Z
DTEND:20210617T140000Z
X-MICROSOFT-CDO-ALLDAYEVENT:FALSE
SUMMARY:Business Women's Networking 6/17/2021
DESCRIPTION:Our Women's Networking Group is keeping us connected!  \n\n\n\nWe will go back to our pre-covid format:\n\n	Everyone gets to introduce themselves and their business\n	There will be a 10 minute Presentation with Q & A   \n\n\nDon't forget to grab your favorite morning beverage!
X-ALT-DESC;FMTTYPE=text/html:<div style="font-size: 18px\;"><span style="font-family:verdana\;">Our Women&#39\;s Networking Group is keeping us connected!&nbsp\;&nbsp\;<br />\n<br />\nWe will go back to our pre-covid format:</span>\n<ul>\n	<li><span style="font-family:verdana\;">Everyone gets to introduce themselves and their business</span></li>\n	<li><span style="font-family:verdana\;">There will be a 10 minute Presentation&nbsp\;with Q &amp\; A&nbsp\; &nbsp\;</span></li>\n</ul>\n</div>\n<strong><span style="font-family:verdana\;"><span style="font-size:16px\;">Don&#39\;t forget to grab your favorite morning beverage!</span></span></strong>
LOCATION:Via Zoom
UID:e.3175.530
SEQUENCE:3
DTSTAMP:20260424T133823Z
URL:https://www.fortleechamber.com/events/details/business-women-s-networking-6-17-2021-530
END:VEVENT

END:VCALENDAR
