BEGIN:VCALENDAR
VERSION:2.0
PRODID:-//ChamberMaster//Event Calendar 2.0//EN
METHOD:PUBLISH
X-PUBLISHED-TTL:P3D
REFRESH-INTERVAL:P3D
CALSCALE:GREGORIAN
BEGIN:VEVENT
DTSTART:20211112T140000Z
DTEND:20211112T150000Z
X-MICROSOFT-CDO-ALLDAYEVENT:FALSE
SUMMARY:Business Women's Networking 11/12/2021 (In-Person)
DESCRIPTION:Join us for Breakfast (or just coffee!) at Chillers Grill in Fort Lee! We will have our own section to ourselves....perhaps outdoors if weather permits!\n\n\n\nBe prepared to introduce yourself and your business. Meet some new members and let's catch up!\n\n\n\nWe will also discuss your feelings about in-person vs. virtual events and handling the holidays!
X-ALT-DESC;FMTTYPE=text/html:<font face="verdana"><span style="font-size: 18px\;">Join us for Breakfast (or just coffee!) at Chillers Grill in Fort Lee! We will have our own section to ourselves....perhaps outdoors if weather permits!<br />\n<br />\nBe prepared to introduce yourself and your business.&nbsp\;Meet some new members and let&#39\;s catch up!<br />\n<br />\nWe will also discuss your feelings about in-person vs. virtual events and handling the holidays!</span></font><br />\n&nbsp\;
LOCATION:Chiller's Grill 2191 Fletcher Avenue Fort Lee\, NJ 07024
UID:e.3175.560
SEQUENCE:3
DTSTAMP:20260424T212913Z
URL:https://www.fortleechamber.com/events/details/business-women-s-networking-11-12-2021-in-person-560
END:VEVENT

END:VCALENDAR
