BEGIN:VCALENDAR
VERSION:2.0
PRODID:-//ChamberMaster//Event Calendar 2.0//EN
METHOD:PUBLISH
X-PUBLISHED-TTL:P3D
REFRESH-INTERVAL:P3D
CALSCALE:GREGORIAN
BEGIN:VEVENT
DTSTART:20210611T140000Z
DTEND:20210613T210000Z
X-MICROSOFT-CDO-ALLDAYEVENT:FALSE
SUMMARY:Arts Amble June 11 - June 13
DESCRIPTION:Arts Amble 2021 is a weekend-long\, county-wide art crawl - Friday\, June 11 - Sunday\, June 13\; 10am - 5pm each day. This will be a public event showcasing visual & performing artists.  In Fort Lee\, the artists from the Fort Lee Art Guild will be exhibiting their work at Hudson Lights Park in Fort Lee.\n\nThe Fort Lee location of the Arts Amble is sponsored by Homes by Vanda at Keller Williams City View Realty & The Fort Lee Regional Chamber of Commerce.
X-ALT-DESC;FMTTYPE=text/html:<div><span style="font-size:20px\;"><span style="font-family:tahoma\;"><strong>Arts Amble 2021</strong> <strong>is a weekend-long\, county-wide art crawl -</strong> <strong>Friday\,&nbsp\;June 11 - Sunday\, June 13\; 10am - 5pm each day</strong>. This will be a public event showcasing visual &amp\; performing artists.&nbsp\; In Fort Lee\, the artists from the Fort Lee Art Guild will be exhibiting their work&nbsp\;at <strong>Hudson Lights </strong><font color="#5e5e5e"><strong>Park in Fort Lee</strong>.<br />\nThe Fort Lee location of the Arts Amble is <strong>sponsored by Homes by Vanda&nbsp\;at Keller Williams City View Realty &amp\; The Fort Lee Regional Chamber of Commerce.&nbsp\;&nbsp\;</strong></font></span></span><br />\n&nbsp\;</div>\n\n<div style="text-align: center\;">&nbsp\;</div>\n\n<div style="text-align: center\;">&nbsp\;</div>\n
LOCATION:Hudson Lights Park in Fort Lee
UID:e.3175.538
SEQUENCE:3
DTSTAMP:20260424T133446Z
URL:https://www.fortleechamber.com/events/details/arts-amble-june-11-june-13-538
END:VEVENT

END:VCALENDAR
