BEGIN:VCALENDAR
VERSION:2.0
PRODID:-//ChamberMaster//Event Calendar 2.0//EN
METHOD:PUBLISH
X-PUBLISHED-TTL:P3D
REFRESH-INTERVAL:P3D
CALSCALE:GREGORIAN
BEGIN:VEVENT
DTSTART:20230614T213000Z
DTEND:20230614T223000Z
X-MICROSOFT-CDO-ALLDAYEVENT:FALSE
SUMMARY:After-Hours Women's Networking (5/24/23)
DESCRIPTION:We are excited to announce that on June 14th\, we will once again be joining our partners at the Hackensack Chamber of Commerce for our June Women's Networking event.\n\n\n\nWe invite you to join us for an opportunity to expand your professional reach\, make new connections\, and strengthen the relationships you have been building here at the FLRCC. This event aims to create an atmosphere where professional women feel comfortable discussing the challenges they face in their work lives. By sharing experiences and insights\, we can collectively find solutions and strategies to overcome these obstacles.\n\n\n\nThe primary goal of our women's group is to foster meaningful relationships that not only provide support but also contribute to the growth of our businesses. During the hour-long meeting\, we will engage in networking activities and discussions. However\, we encourage all attendees to stay afterward\, as this informal time allows for further conversations and connections.\n\n\n\nHosted and sponsored by\n\nGreater Alliance Federal Credit Union\n\n100 Hudson Street\,\n\nHackensack NJ 07601\n\n\n\n\n\nFuture Members\n\nJoin within one week and your registration fee will be doubled as a $50 credit towards membership dues for your first year.
X-ALT-DESC;FMTTYPE=text/html:<span style="font-size:16px\;"><span style="font-family:arial\;">We are excited to announce that on June 14th\, we will once again be joining our partners at the Hackensack Chamber of Commerce for our June Women&#39\;s Networking event.<br />\n<br />\nWe invite you to join us for an opportunity to expand your professional reach\, make new connections\, and strengthen the relationships you have been building here at the FLRCC. This event aims to create an atmosphere where professional women feel comfortable discussing the challenges they face in their work lives. By sharing experiences and insights\, we can collectively find solutions and strategies to overcome these obstacles.<br />\n<br />\nThe primary goal of our women&#39\;s group is to foster meaningful relationships that not only provide support but also contribute to the growth of our businesses. During the hour-long meeting\, we will engage in networking activities and discussions. However\, we encourage all attendees to stay afterward\, as this informal time allows for further conversations and connections.</span></span><br />\n<br />\n<u><span style="font-size:16.0pt\;">Hosted and sponsored by</span></u><br />\n<span style="color: rgb(20\, 24\, 39)\; font-family: helvetica\, sans-serif\; font-size: 21.3333px\;">Greater Alliance Federal Credit Union</span><br style="color: rgb(20\, 24\, 39)\; font-family: helvetica\, sans-serif\; font-size: 21.3333px\;" />\n<span style="color: rgb(20\, 24\, 39)\; font-family: helvetica\, sans-serif\; font-size: 21.3333px\;">100 Hudson Street\,</span><br style="color: rgb(20\, 24\, 39)\; font-family: helvetica\, sans-serif\; font-size: 21.3333px\;" />\n<span style="color: rgb(20\, 24\, 39)\; font-family: helvetica\, sans-serif\; font-size: 21.3333px\;">Hackensack NJ 07601</span><br />\n<br />\n<br />\n<u style="box-sizing: border-box\; font-family: Raleway\, sans-serif\; font-size: 16px\; font-weight: 700\; letter-spacing: 0.5px\;">Future Members</u><br style="box-sizing: border-box\; font-family: Raleway\, sans-serif\; font-size: 16px\; font-weight: 700\; letter-spacing: 0.5px\;" />\n<span style="font-family: Raleway\, sans-serif\; font-size: 16px\; font-weight: 700\; letter-spacing: 0.5px\; background-color: rgb(249\, 249\, 249)\;">Join within one week and your registration fee will be doubled as a $50 credit towards membership dues for your first year.</span>\n<p style="border: 0px solid rgb(217\, 217\, 227)\; box-sizing: border-box\; --tw-border-spacing-x: 0\; --tw-border-spacing-y: 0\; --tw-translate-x: 0\; --tw-translate-y: 0\; --tw-rotate: 0\; --tw-skew-x: 0\; --tw-skew-y: 0\; --tw-scale-x: 1\; --tw-scale-y: 1\; --tw-pan-x: \; --tw-pan-y: \; --tw-pinch-zoom: \; --tw-scroll-snap-strictness: proximity\; --tw-gradient-from-position: \; --tw-gradient-via-position: \; --tw-gradient-to-position: \; --tw-ordinal: \; --tw-slashed-zero: \; --tw-numeric-figure: \; --tw-numeric-spacing: \; --tw-numeric-fraction: \; --tw-ring-inset: \; --tw-ring-offset-width: 0px\; --tw-ring-offset-color: #fff\; --tw-ring-color: rgba(69\,89\,164\,.5)\; --tw-ring-offset-shadow: 0 0 transparent\; --tw-ring-shadow: 0 0 transparent\; --tw-shadow: 0 0 transparent\; --tw-shadow-colored: 0 0 transparent\; --tw-blur: \; --tw-brightness: \; --tw-contrast: \; --tw-grayscale: \; --tw-hue-rotate: \; --tw-invert: \; --tw-saturate: \; --tw-sepia: \; --tw-drop-shadow: \; --tw-backdrop-blur: \; --tw-backdrop-brightness: \; --tw-backdrop-contrast: \; --tw-backdrop-grayscale: \; --tw-backdrop-hue-rotate: \; --tw-backdrop-invert: \; --tw-backdrop-opacity: \; --tw-backdrop-saturate: \; --tw-backdrop-sepia: \; margin: 0px 0px 1.25em\; color: rgb(55\, 65\, 81)\; font-family: Söhne\, ui-sans-serif\, system-ui\, -apple-system\, &quot\;Segoe UI&quot\;\, Roboto\, Ubuntu\, Cantarell\, &quot\;Noto Sans&quot\;\, sans-serif\, &quot\;Helvetica Neue&quot\;\, Arial\, &quot\;Apple Color Emoji&quot\;\, &quot\;Segoe UI Emoji&quot\;\, &quot\;Segoe UI Symbol&quot\;\, &quot\;Noto Color Emoji&quot\;\; font-size: 16px\; white-space: pre-wrap\; background-color: rgb(247\, 247\, 248)\;">&nbsp\;</p>\n
LOCATION:Greater Alliance Federal Credit Union 100 Hudson Street\, Hackensack NJ 07601
UID:e.3175.1003
SEQUENCE:3
DTSTAMP:20260419T151009Z
URL:https://www.fortleechamber.com/events/details/after-hours-women-s-networking-5-24-23-1003
END:VEVENT

END:VCALENDAR
