BEGIN:VCALENDAR
VERSION:2.0
PRODID:-//ChamberMaster//Event Calendar 2.0//EN
METHOD:PUBLISH
X-PUBLISHED-TTL:P3D
REFRESH-INTERVAL:P3D
CALSCALE:GREGORIAN
BEGIN:VEVENT
DTSTART:20211208T223000Z
DTEND:20211209T000000Z
X-MICROSOFT-CDO-ALLDAYEVENT:FALSE
SUMMARY:"Adults with Aging Parent Drivers"
DESCRIPTION:Join us at Sunrise of Edgewater as Senior Care Authority's David Stamberg presents a "Bringing a Peaceful End to the Complex and Sensitive Senior Driving Issue". This program is geared to family members\, caregivers and loved ones of senior drivers. In it\, David helps Baby Boomers and "Adult Children" who are concerned about a loves one's ability to drive safely as a result of the natural aging process. It is a compassionate\, sensitive\, yet realistic approach as to how the aging process may affect senior drivers. David will provide tools to assist families in addressing this issue through tact\, compassion and empathy
X-ALT-DESC;FMTTYPE=text/html:Join us at Sunrise of Edgewater as Senior Care Authority&#39\;s David Stamberg presents a &quot\;Bringing a Peaceful End to the Complex and Sensitive Senior Driving Issue&quot\;. This program is geared to family members\, caregivers and loved ones of senior drivers. In it\, David helps Baby Boomers and &quot\;Adult Children&quot\; who are concerned about a loves one&#39\;s ability to drive safely as a result of the natural aging process. It is a compassionate\, sensitive\, yet realistic approach as to how the aging process may affect senior drivers. David will provide tools to assist families in addressing this issue through tact\, compassion and empathy
LOCATION:Sunrise of Edgewater 351 River Road Edgewater\, NJ 07020
UID:e.3175.570
SEQUENCE:3
DTSTAMP:20260424T225628Z
URL:https://www.fortleechamber.com/events/details/adults-with-aging-parent-drivers-570
END:VEVENT

END:VCALENDAR
