BEGIN:VCALENDAR
VERSION:2.0
PRODID:-//ChamberMaster//Event Calendar 2.0//EN
METHOD:PUBLISH
X-PUBLISHED-TTL:P3D
REFRESH-INTERVAL:P3D
CALSCALE:GREGORIAN
BEGIN:VEVENT
DTSTART:20211014T220000Z
DTEND:20211014T233000Z
X-MICROSOFT-CDO-ALLDAYEVENT:FALSE
SUMMARY:53rd Annual Gala-Virtual
DESCRIPTION:You may have already received our printed invitations in the mail. We were very excited about celebrating with everyone in person at The Graycliff. However due to the Delta variant and varying requirements regarding masking\, as well as abundant concerns for the health and well-being of our members\, we have decided to have a Virtual Event once again. \n\n\n\nSince we already have experience doing a virtual event\, and the Remo platform has undergone numerous improvements over the past year\, we know this will this will be a pleasurable experience and you will be safe - which is of paramount importance to us!\n\n\n\nJoin us as we honor three local front line workers who helped us successfully navigate the pandemic:\n\n	Steven Curry\, Fort Lee Fire Official\n	Detective Martin J. Kim\, Palisades Park Detective Bureau\n	Dr. Anthony Passannante\, Hackensack Meridian Palisades Medical Center\n\n\nYou can read more about them here.\n\n\n\nClick on the "Register" button to the right to:\n\n\n	Purchase Tickets\n	Place an Ad in our 2021 Community Directory to congratulate one or all of the honorees (Deadline: September 23rd)\n	Become a Sponsor (your Ad & Tickets are included!)
X-ALT-DESC;FMTTYPE=text/html:<span style="font-size:20px\;"><span style="font-family:arial\;"><strong><span style="background-color: rgb(255\, 255\, 255)\;">You may have already received our printed invitations in the mail. We were very excited about celebrating with everyone in person at The Graycliff. However due to the Delta variant and varying requirements regarding masking\, as well as abundant concerns for the health and well-being of our members\, we have decided to have a Virtual Event once again.&nbsp\;</span></strong><br />\n<br />\n<strong font-size:="" style="color: rgb(51\, 51\, 51)\; font-family: sans-serif\, Arial\, Verdana\, " trebuchet="">Since we already have experience doing a virtual event\, and the Remo platform has undergone numerous improvements over the past year\, we know this will this will be a pleasurable experience and you will be safe - which is of paramount importance to us!</strong><br />\n<br />\n<strong>Join us as we honor three local front line workers who helped us successfully navigate the pandemic:</strong></span></span>\n<ul>\n	<li><span style="font-size:20px\;"><span style="font-family:arial\;"><b><strong>Steven Curry\, Fort Lee Fire Official</strong></b></span></span></li>\n	<li><span style="font-size:20px\;"><span style="font-family:arial\;"><b><strong>Detective Martin J. Kim\, Palisades Park Detective Bureau</strong></b></span></span></li>\n	<li><span style="font-family:arial\;"><span style="font-size:20px\;"><strong font-size:="" style="color: rgb(51\, 51\, 51)\; font-family: sans-serif\, Arial\, Verdana\, " trebuchet="">Dr. Anthony Passannante\,&nbsp\;Hackensack Meridian Palisades Medical Center</strong></span></span></li>\n</ul>\n\n<div font-size:="" style="color: rgb(51\, 51\, 51)\; font-family: sans-serif\, Arial\, Verdana\, " trebuchet=""><span style="font-size:20px\;"><span style="font-family:arial\;"><a href="https://www.fortleechamber.com/2021-honorees"><u><em>You can read more about them here.</em></u></a><br />\n<br />\n<strong>Click on the &quot\;Register&quot\; button to the right to:</strong></span></span>\n\n<ul>\n	<li><span style="font-size:20px\;"><span style="font-family:arial\;"><strong>Purchase Tickets</strong></span></span></li>\n	<li><span style="font-size:20px\;"><span style="font-family:arial\;"><strong>Place an&nbsp\;Ad&nbsp\;in our 2021 Community Directory to congratulate one or all of the honorees (Deadline: September 23rd)</strong></span></span></li>\n	<li><span style="font-size:20px\;"><span style="font-family:arial\;"><strong>Become a Sponsor (your Ad &amp\; Tickets are included!)</strong></span></span></li>\n</ul>\n</div>\n<span style="font-size:20px\;"><span style="font-family:arial\;"> </span></span>
LOCATION:Via Remo
UID:e.3175.547
SEQUENCE:3
DTSTAMP:20260424T212417Z
URL:https://www.fortleechamber.com/events/details/53rd-annual-gala-virtual-547
END:VEVENT

END:VCALENDAR
