BEGIN:VCALENDAR
VERSION:2.0
PRODID:-//ChamberMaster//Event Calendar 2.0//EN
METHOD:PUBLISH
X-PUBLISHED-TTL:P3D
REFRESH-INTERVAL:P3D
CALSCALE:GREGORIAN
BEGIN:VEVENT
DTSTART:20211210T170000Z
DTEND:20211210T190000Z
X-MICROSOFT-CDO-ALLDAYEVENT:FALSE
SUMMARY:2021 Holiday Luncheon
DESCRIPTION:Start the Holiday season off right -- with your FLRCC friends\, a great meal\, cocktails\, music\, raffle prizes and other surprises!\n\n\n\n	Meet the local Mayors and hear what they are planning for 2022. \n	Get a head start on your shopping with out Holiday Boutique!\n	Purchase a photo with Santa - proceeds go to Center for Hope & Safety.\n	Please bring an unwrapped toy for the Fort Lee Police Department's Toys for Tots Campaign. Have fun and help someone else have a good holiday too.
X-ALT-DESC;FMTTYPE=text/html:<div style="font-family: verdana\;"><span style="font-size:18px\;"><span style="font-family:verdana\;">Start the Holiday season off right -- with your FLRCC friends\, a great meal\, cocktails\, music\, raffle prizes and other surprises!</span></span></div>\n\n<div style="font-family: verdana\;">\n<ul>\n	<li><span style="font-size:14px\;"><span style="font-size:18px\;"><span style="font-family:verdana\;">Meet the local Mayors and hear what they are planning for 2022.&#8203\;</span></span></span></li>\n	<li><span style="font-size:14px\;"><span style="font-size:18px\;"><span style="font-family:verdana\;">Get a head start on your shopping with out Holiday Boutique!</span></span></span></li>\n	<li><span style="font-size:14px\;"><span style="font-size:18px\;"><span style="font-family:verdana\;">Purchase a photo with Santa - proceeds go to Center for Hope &amp\; Safety.</span></span></span></li>\n	<li><span style="font-size:14px\;"><span style="font-size:18px\;"><span style="font-family:verdana\;">Please bring an unwrapped toy for the Fort Lee Police Department&#39\;s Toys for Tots Campaign. Have fun and help someone else have a good holiday too.</span></span></span></li>\n</ul>\n</div>\n
LOCATION:Villa Amalfi 793 Palisade Avenue Cliffside Park\, NJ Upstairs in the private room!
UID:e.3175.563
SEQUENCE:3
DTSTAMP:20260424T225504Z
URL:https://www.fortleechamber.com/events/details/2021-holiday-luncheon-563
END:VEVENT

END:VCALENDAR
