BEGIN:VCALENDAR
VERSION:2.0
PRODID:-//ChamberMaster//Event Calendar 2.0//EN
METHOD:PUBLISH
X-PUBLISHED-TTL:P3D
REFRESH-INTERVAL:P3D
CALSCALE:GREGORIAN
BEGIN:VEVENT
DTSTART:20210623T130000Z
DTEND:20210623T200000Z
X-MICROSOFT-CDO-ALLDAYEVENT:FALSE
SUMMARY:2021 Annual Golf Outing @ Soldier Hill - June 23\, 2021
DESCRIPTION:Our Golf Outing is back! The tradition continues closer to home and with safety in mind.  Register now to join us at Soldier Hill Golf Course in Emerson\, NJ on Wednesday\, June 23rd.  \n\n \n\nTake advantage of the numerous sponsorship opportunities to promote your business to our attendees\, our membership\, and the community.  See the detailed list below to see what each Sponsorship includes.\n\n \n\nOur Shotgun Start is promptly at 9:00am\, but our event will start with an individually served boxed breakfast and beverage from 8:00-8:30.  After your morning on the links\, there will be a cocktail hour with open-bar\, followed by a buffet lunch carefully served by club attendants.  Lunch seating will be outdoors. \n\n \n\nWe will be following all current State mandates to safely stage this event including outdoor meals\, reducing common touch points and the wearing of masks when social distancing is not possible. \n\n\n\nIf you would like more information about safety procedures or to find out more about the event and sponsorship opportunities\, please call Hope at (201) 944-7575.\n\n\n\n2021 ANNUAL GOLF OUTING SPONSORSHIPS\n\n \n\nEvent Sponsor - $6\,000\n\nGolf Event Sponsor gets signage at check-in\, breakfast\, cocktail area & Buffet Lunch and  Logo on all collateral. Includes Foursome (golf\, breakfast\, cocktail hour & Buffet Lunch.)\n\n\n\nLunch Sponsor - $3\,500\n\nGolf Event Sponsor gets signage at check-in\, breakfast\, cocktail area & Buffet Lunch and  Logo on all collateral. Includes Foursome (golf\, breakfast\, cocktail hour & Buffet Lunch.)\n\n\n\nClosest to the Pin Sponsor - $2\,500\n\nGolf Closest to the Pin Sponsor gets signage at the hole and Logo on all collateral.  Includes Foursome (golf\, breakfast\, cocktail hour & Buffet Lunch.)\n\n\n\nLongest Drive Sponsor - $2\,500\n\nGolf Longest Drive Sponsor gets signage at the Driving Range and logo on all collateral.  Includes foursome (golf\, breakfast\, cocktail hour & Buffet Lunch.)\n\n\n\nCocktail Sponsor - $2\,000\n\nGolf Cocktail Sponsor gets signage at the Cocktail Hour\, Logo on all collateral.  Includes Foursome (golf\, breakfast\, cocktail hour\, & Buffet Lunch).  \n\n\n\nPlatinum Hole Sponsor - $1\,200\n\nGolf Platinum Hole Sponsor gets 2 signs with Company Logo @ 1 hole (T-box area & Green)\, Logo on all collateral.  Includes Foursome (golf\, breakfast\, cocktail hour & Buffet Lunch) \n\n\n\nGold Hole Sponsor - $650\n\nGolf Gold Hole Sponsor gets 2 signs with Company Logo @ 1 hole (T-box area & Green.) Logo on all collateral. Includes 1 golfer (golf\, breakfast\, cocktail hour & Buffet Lunch.)\n\n\n\nBanner Sponsor - $500\n\nGolf Banner Sponsor gets Company Logo on Banner with other Sponsor Logos.  Logo on all collateral.  Includes 1 golfer (golf\, breakfast\, cocktail hour & Buffet Lunch.)
X-ALT-DESC;FMTTYPE=text/html:<div style="text-size-adjust: auto\; font-family: Calibri\, Arial\, Helvetica\, sans-serif\; font-size: 12pt\;"><b>Our Golf Outing is back! The tradition continues closer to home and with safety in mind.&nbsp\; Register now to join us at </b><strong>Soldier Hill Golf Course in Emerson\, NJ</strong><b> on Wednesday\, June 23rd.&nbsp\;&nbsp\;</b></div>\n\n<div style="text-size-adjust: auto\; font-family: Calibri\, Arial\, Helvetica\, sans-serif\; font-size: 12pt\;">&nbsp\;</div>\n\n<div style="text-size-adjust: auto\; font-family: Calibri\, Arial\, Helvetica\, sans-serif\; font-size: 12pt\;"><b>Take advantage of the numerous sponsorship opportunities to promote your business to our attendees\, our membership\, and the community.&nbsp\; See the detailed list below to see what each Sponsorship includes.</b></div>\n\n<div style="text-size-adjust: auto\; font-family: Calibri\, Arial\, Helvetica\, sans-serif\; font-size: 12pt\;">&nbsp\;</div>\n\n<div style="text-size-adjust: auto\; font-family: Calibri\, Arial\, Helvetica\, sans-serif\; font-size: 12pt\;"><b>Our Shotgun Start is promptly at 9:00am\, but our event will start with an individually served boxed breakfast and beverage from 8:00-8:30.&nbsp\;&nbsp\;<span style="font-size: 12pt\;">After your morning on the links\, there will be a cocktail hour with open-bar\, followed by a buffet lunch carefully served by club attendants.&nbsp\; Lunch seating will be outdoors.&nbsp\;</span></b></div>\n\n<div style="text-size-adjust: auto\; font-family: Calibri\, Arial\, Helvetica\, sans-serif\; font-size: 12pt\;">&nbsp\;</div>\n\n<div style="text-size-adjust: auto\; font-family: Calibri\, Arial\, Helvetica\, sans-serif\; font-size: 12pt\;"><span style="font-size: 12pt\;"><b>We will be following all current State mandates to safely stage this event including outdoor meals\, reducing common touch points and the wearing of masks when social distancing is not possible.&nbsp\;</b></span><br />\n<br />\n<b style="color: rgb(51\, 51\, 51)\; font-family: Calibri\, Arial\, Helvetica\, sans-serif\; font-size: 16px\; background-color: rgb(255\, 255\, 255)\;">If you would like more information about safety procedures or to find out more about the event and sponsorship opportunities\,&nbsp\;</b><span style="font-size: 12pt\;"><b>please call Hope at (201) 944-7575.<br />\n<br />\n<u>2021 ANNUAL GOLF OUTING SPONSORSHIPS</u></b></span></div>\n\n<div style="text-size-adjust: auto\; font-family: Calibri\, Arial\, Helvetica\, sans-serif\; font-size: 12pt\;">&nbsp\;</div>\n\n<div style="text-size-adjust: auto\; font-family: Calibri\, Arial\, Helvetica\, sans-serif\; font-size: 12pt\;"><u><strong>Event Sponsor - $6\,000</strong></u><br />\nGolf Event Sponsor gets signage at check-in\, breakfast\, cocktail area &amp\; Buffet Lunch and&nbsp\; Logo on all collateral. Includes Foursome (golf\, breakfast\, cocktail hour &amp\; Buffet Lunch.)<br />\n<br />\n<u><strong>Lunch Sponsor - $3\,500</strong></u><br />\nGolf Event Sponsor gets signage at check-in\, breakfast\, cocktail area &amp\; Buffet Lunch and&nbsp\; Logo on all collateral. Includes Foursome (golf\, breakfast\, cocktail hour &amp\; Buffet Lunch.)<br />\n<br />\n<u><strong>Closest to the Pin Sponsor - $2\,500</strong></u><br />\nGolf Closest to the Pin Sponsor gets signage at the hole and Logo on all collateral.&nbsp\; Includes Foursome (golf\, breakfast\, cocktail hour &amp\; Buffet Lunch.)<br />\n<br />\n<u><strong>Longest Drive Sponsor - $2\,500</strong></u><br />\nGolf Longest Drive Sponsor gets signage at the Driving Range and logo on all collateral.&nbsp\; Includes foursome (golf\, breakfast\, cocktail hour &amp\; Buffet Lunch.)<br />\n<br />\n<u><strong>Cocktail Sponsor - $2\,000</strong></u><br />\nGolf Cocktail Sponsor gets signage at the Cocktail Hour\, Logo on all collateral.&nbsp\; Includes Foursome (golf\, breakfast\, cocktail hour\, &amp\; Buffet Lunch).&nbsp\;&nbsp\;<br />\n<br />\n<u><strong>Platinum Hole Sponsor - $1\,200</strong></u><br />\nGolf Platinum Hole Sponsor gets 2 signs with Company Logo @ 1 hole (T-box area &amp\; Green)\, Logo on all collateral.&nbsp\; Includes Foursome (golf\, breakfast\, cocktail hour &amp\; Buffet Lunch)&nbsp\;<br />\n<br />\n<u><strong>Gold Hole Sponsor - $650</strong></u><br />\nGolf Gold Hole Sponsor gets 2 signs with Company Logo @ 1 hole (T-box area &amp\; Green.) Logo on all collateral. Includes 1 golfer (golf\, breakfast\, cocktail hour &amp\; Buffet Lunch.)<br />\n<br />\n<u><strong>Banner Sponsor - $500</strong></u><br />\nGolf Banner Sponsor gets Company Logo on Banner with other Sponsor Logos.&nbsp\; Logo on all collateral.&nbsp\; Includes 1 golfer (golf\, breakfast\, cocktail hour &amp\; Buffet Lunch.)</div>\n
LOCATION:Soldier Hill Golf Course 99 Palisades Avenue Emerson\, NJ
UID:e.3175.522
SEQUENCE:3
DTSTAMP:20260424T133916Z
URL:https://www.fortleechamber.com/events/details/2021-annual-golf-outing-soldier-hill-june-23-2021-522
END:VEVENT

END:VCALENDAR
